BEGIN:VCALENDAR
VERSION:2.0
PRODID:-//Grace Family Ministries - ECPv6.15.20//NONSGML v1.0//EN
CALSCALE:GREGORIAN
METHOD:PUBLISH
X-ORIGINAL-URL:https://gracefamilyministries.org
X-WR-CALDESC:Events for Grace Family Ministries
REFRESH-INTERVAL;VALUE=DURATION:PT1H
X-Robots-Tag:noindex
X-PUBLISHED-TTL:PT1H
BEGIN:VTIMEZONE
TZID:America/Indiana/Indianapolis
BEGIN:DAYLIGHT
TZOFFSETFROM:-0500
TZOFFSETTO:-0400
TZNAME:EDT
DTSTART:20250309T070000
END:DAYLIGHT
BEGIN:STANDARD
TZOFFSETFROM:-0400
TZOFFSETTO:-0500
TZNAME:EST
DTSTART:20251102T060000
END:STANDARD
BEGIN:DAYLIGHT
TZOFFSETFROM:-0500
TZOFFSETTO:-0400
TZNAME:EDT
DTSTART:20260308T070000
END:DAYLIGHT
BEGIN:STANDARD
TZOFFSETFROM:-0400
TZOFFSETTO:-0500
TZNAME:EST
DTSTART:20261101T060000
END:STANDARD
BEGIN:DAYLIGHT
TZOFFSETFROM:-0500
TZOFFSETTO:-0400
TZNAME:EDT
DTSTART:20270314T070000
END:DAYLIGHT
BEGIN:STANDARD
TZOFFSETFROM:-0400
TZOFFSETTO:-0500
TZNAME:EST
DTSTART:20271107T060000
END:STANDARD
END:VTIMEZONE
BEGIN:VEVENT
DTSTART;TZID=America/Indiana/Indianapolis:20260503T090000
DTEND;TZID=America/Indiana/Indianapolis:20260503T233000
DTSTAMP:20260424T074621
CREATED:20260407T205057Z
LAST-MODIFIED:20260407T205238Z
UID:2226-1777798800-1777851000@gracefamilyministries.org
SUMMARY:Kettle Moraine Bible Church of West Bend\, WI
DESCRIPTION:On Sunday\, May 3rd\, Pastor Tim Board will report on the ministry of GFM and the whole family will minister special music.  Pastor & Mrs. Ben Lorenz\, the elders\, and all the saints of this dynamic assembly invite you to join them for worship on Sundays at 9am with Bible Classes to follow. \nFor more information\, check out https://www.kettlemorainebiblechurch.org/.
URL:https://gracefamilyministries.org/event/kettle-moraine-bible-church-of-west-bend-wi/
ATTACH;FMTTYPE=image/jpeg:https://gracefamilyministries.org/wp-content/uploads/2023/12/kmbcchurchphoto-20220410.jpg
END:VEVENT
END:VCALENDAR