BEGIN:VCALENDAR
VERSION:2.0
PRODID:-//Grace Family Ministries - ECPv6.15.20//NONSGML v1.0//EN
CALSCALE:GREGORIAN
METHOD:PUBLISH
X-ORIGINAL-URL:https://gracefamilyministries.org
X-WR-CALDESC:Events for Grace Family Ministries
REFRESH-INTERVAL;VALUE=DURATION:PT1H
X-Robots-Tag:noindex
X-PUBLISHED-TTL:PT1H
BEGIN:VTIMEZONE
TZID:America/Indiana/Indianapolis
BEGIN:DAYLIGHT
TZOFFSETFROM:-0500
TZOFFSETTO:-0400
TZNAME:EDT
DTSTART:20250309T070000
END:DAYLIGHT
BEGIN:STANDARD
TZOFFSETFROM:-0400
TZOFFSETTO:-0500
TZNAME:EST
DTSTART:20251102T060000
END:STANDARD
BEGIN:DAYLIGHT
TZOFFSETFROM:-0500
TZOFFSETTO:-0400
TZNAME:EDT
DTSTART:20260308T070000
END:DAYLIGHT
BEGIN:STANDARD
TZOFFSETFROM:-0400
TZOFFSETTO:-0500
TZNAME:EST
DTSTART:20261101T060000
END:STANDARD
BEGIN:DAYLIGHT
TZOFFSETFROM:-0500
TZOFFSETTO:-0400
TZNAME:EDT
DTSTART:20270314T070000
END:DAYLIGHT
BEGIN:STANDARD
TZOFFSETFROM:-0400
TZOFFSETTO:-0500
TZNAME:EST
DTSTART:20271107T060000
END:STANDARD
END:VTIMEZONE
BEGIN:VEVENT
DTSTART;TZID=America/Indiana/Indianapolis:20260301T093000
DTEND;TZID=America/Indiana/Indianapolis:20260301T123000
DTSTAMP:20260424T080628
CREATED:20260116T220057Z
LAST-MODIFIED:20260116T220057Z
UID:2148-1772357400-1772368200@gracefamilyministries.org
SUMMARY:Preakness Bible Church of Wayne\, New Jersey
DESCRIPTION:On Sunday\, March 1st\, A.D. 2026\, Tim & Lori Board & family will be ministering the Word of God and in song.  All the saints welcome you to join them on Sundays for Bible Study (& breakfast) at 9:30am and the Worship Service at 10:45am.  Their address is 1108 Preakness Ave. Wayne\, NJ 07470.  For more information: check out www.preaknessbiblechurch.org.
URL:https://gracefamilyministries.org/event/preakness-bible-church-of-wayne-new-jersey-6/
ATTACH;FMTTYPE=image/jpeg:https://gracefamilyministries.org/wp-content/uploads/2026/01/IMG_0170-2.jpeg
END:VEVENT
BEGIN:VEVENT
DTSTART;TZID=America/Indiana/Indianapolis:20260315T093000
DTEND;TZID=America/Indiana/Indianapolis:20260315T120000
DTSTAMP:20260424T080628
CREATED:20260314T201435Z
LAST-MODIFIED:20260314T201447Z
UID:2203-1773567000-1773576000@gracefamilyministries.org
SUMMARY:Preakness Bible Church of Wayne\, New Jersey
DESCRIPTION:On Sunday\, March 15th\, A.D. 2026\, Tim\, Timothy\, & Noah Board will be ministering the Word of God and in song.  All the saints welcome you to join them on Sundays for Bible Study (& breakfast) at 9:30am and the Worship Service at 10:45am.  Their address is 1108 Preakness Ave. Wayne\, NJ 07470.  For more information: check out www.preaknessbiblechurch.org.
URL:https://gracefamilyministries.org/event/preakness-bible-church-of-wayne-new-jersey-7/
ATTACH;FMTTYPE=image/jpeg:https://gracefamilyministries.org/wp-content/uploads/2026/01/IMG_0170-2.jpeg
END:VEVENT
BEGIN:VEVENT
DTSTART;TZID=America/Indiana/Indianapolis:20260322T093000
DTEND;TZID=America/Indiana/Indianapolis:20260322T120000
DTSTAMP:20260424T080628
CREATED:20260314T201603Z
LAST-MODIFIED:20260314T201603Z
UID:2205-1774171800-1774180800@gracefamilyministries.org
SUMMARY:Preakness Bible Church of Wayne\, New Jersey
DESCRIPTION:On Sunday\, March 22nd\, A.D. 2026\, Tim\, Timothy\, & Noah Board will be ministering the Word of God and in song.  All the saints welcome you to join them on Sundays for Bible Study (& breakfast) at 9:30am and the Worship Service at 10:45am.  Their address is 1108 Preakness Ave. Wayne\, NJ 07470.  For more information: check out www.preaknessbiblechurch.org.
URL:https://gracefamilyministries.org/event/preakness-bible-church-of-wayne-new-jersey-8/
ATTACH;FMTTYPE=image/jpeg:https://gracefamilyministries.org/wp-content/uploads/2026/01/IMG_0170-2.jpeg
END:VEVENT
END:VCALENDAR