BEGIN:VCALENDAR
VERSION:2.0
PRODID:-//Grace Family Ministries - ECPv6.15.20//NONSGML v1.0//EN
CALSCALE:GREGORIAN
METHOD:PUBLISH
X-ORIGINAL-URL:https://gracefamilyministries.org
X-WR-CALDESC:Events for Grace Family Ministries
REFRESH-INTERVAL;VALUE=DURATION:PT1H
X-Robots-Tag:noindex
X-PUBLISHED-TTL:PT1H
BEGIN:VTIMEZONE
TZID:America/Indiana/Indianapolis
BEGIN:DAYLIGHT
TZOFFSETFROM:-0500
TZOFFSETTO:-0400
TZNAME:EDT
DTSTART:20250309T070000
END:DAYLIGHT
BEGIN:STANDARD
TZOFFSETFROM:-0400
TZOFFSETTO:-0500
TZNAME:EST
DTSTART:20251102T060000
END:STANDARD
BEGIN:DAYLIGHT
TZOFFSETFROM:-0500
TZOFFSETTO:-0400
TZNAME:EDT
DTSTART:20260308T070000
END:DAYLIGHT
BEGIN:STANDARD
TZOFFSETFROM:-0400
TZOFFSETTO:-0500
TZNAME:EST
DTSTART:20261101T060000
END:STANDARD
BEGIN:DAYLIGHT
TZOFFSETFROM:-0500
TZOFFSETTO:-0400
TZNAME:EDT
DTSTART:20270314T070000
END:DAYLIGHT
BEGIN:STANDARD
TZOFFSETFROM:-0400
TZOFFSETTO:-0500
TZNAME:EST
DTSTART:20271107T060000
END:STANDARD
END:VTIMEZONE
BEGIN:VEVENT
DTSTART;TZID=America/Indiana/Indianapolis:20260201T093000
DTEND;TZID=America/Indiana/Indianapolis:20260201T123000
DTSTAMP:20260424T100222
CREATED:20260116T215512Z
LAST-MODIFIED:20260116T215512Z
UID:2140-1769938200-1769949000@gracefamilyministries.org
SUMMARY:Preakness Bible Church of Wayne\, New Jersey
DESCRIPTION:On Sunday\, February 1st\, A.D. 2026\, Tim & Lori Board & family will be ministering the Word of God and in song.  All the saints welcome you to join them on Sundays for Bible Study (& breakfast) at 9:30am and the Worship Service at 10:45am.  Their address is 1108 Preakness Ave. Wayne\, NJ 07470.  For more information: check out www.preaknessbiblechurch.org.
URL:https://gracefamilyministries.org/event/preakness-bible-church-of-wayne-new-jersey-2/
ATTACH;FMTTYPE=image/jpeg:https://gracefamilyministries.org/wp-content/uploads/2026/01/IMG_0170-2.jpeg
END:VEVENT
BEGIN:VEVENT
DTSTART;TZID=America/Indiana/Indianapolis:20260208T093000
DTEND;TZID=America/Indiana/Indianapolis:20260208T123000
DTSTAMP:20260424T100222
CREATED:20260116T215646Z
LAST-MODIFIED:20260116T215646Z
UID:2142-1770543000-1770553800@gracefamilyministries.org
SUMMARY:Preakness Bible Church of Wayne\, New Jersey
DESCRIPTION:On Sunday\, February 8th\, A.D. 2026\, Tim & Lori Board & family will be ministering the Word of God and in song.  All the saints welcome you to join them on Sundays for Bible Study (& breakfast) at 9:30am and the Worship Service at 10:45am.  Their address is 1108 Preakness Ave. Wayne\, NJ 07470.  For more information: check out www.preaknessbiblechurch.org.
URL:https://gracefamilyministries.org/event/preakness-bible-church-of-wayne-new-jersey-3/
ATTACH;FMTTYPE=image/jpeg:https://gracefamilyministries.org/wp-content/uploads/2026/01/IMG_0170-2.jpeg
END:VEVENT
BEGIN:VEVENT
DTSTART;TZID=America/Indiana/Indianapolis:20260215T093000
DTEND;TZID=America/Indiana/Indianapolis:20260215T123000
DTSTAMP:20260424T100222
CREATED:20260116T215830Z
LAST-MODIFIED:20260116T215830Z
UID:2144-1771147800-1771158600@gracefamilyministries.org
SUMMARY:Preakness Bible Church of Wayne\, New Jersey
DESCRIPTION:On Sunday\, February 15th\, A.D. 2026\, Tim & Lori Board & family will be ministering the Word of God and in song.  All the saints welcome you to join them on Sundays for Bible Study (& breakfast) at 9:30am and the Worship Service at 10:45am.  Their address is 1108 Preakness Ave. Wayne\, NJ 07470.  For more information: check out www.preaknessbiblechurch.org.
URL:https://gracefamilyministries.org/event/preakness-bible-church-of-wayne-new-jersey-4/
ATTACH;FMTTYPE=image/jpeg:https://gracefamilyministries.org/wp-content/uploads/2026/01/IMG_0170-2.jpeg
END:VEVENT
BEGIN:VEVENT
DTSTART;TZID=America/Indiana/Indianapolis:20260222T093000
DTEND;TZID=America/Indiana/Indianapolis:20260222T123000
DTSTAMP:20260424T100222
CREATED:20260116T215947Z
LAST-MODIFIED:20260116T215947Z
UID:2146-1771752600-1771763400@gracefamilyministries.org
SUMMARY:Preakness Bible Church of Wayne\, New Jersey
DESCRIPTION:On Sunday\, February 22nd\, A.D. 2026\, Tim & Lori Board & family will be ministering the Word of God and in song.  All the saints welcome you to join them on Sundays for Bible Study (& breakfast) at 9:30am and the Worship Service at 10:45am.  Their address is 1108 Preakness Ave. Wayne\, NJ 07470.  For more information: check out www.preaknessbiblechurch.org.
URL:https://gracefamilyministries.org/event/preakness-bible-church-of-wayne-new-jersey-5/
ATTACH;FMTTYPE=image/jpeg:https://gracefamilyministries.org/wp-content/uploads/2026/01/IMG_0170-2.jpeg
END:VEVENT
END:VCALENDAR