BEGIN:VCALENDAR
VERSION:2.0
PRODID:-//Grace Family Ministries - ECPv6.15.20//NONSGML v1.0//EN
CALSCALE:GREGORIAN
METHOD:PUBLISH
X-WR-CALNAME:Grace Family Ministries
X-ORIGINAL-URL:https://gracefamilyministries.org
X-WR-CALDESC:Events for Grace Family Ministries
REFRESH-INTERVAL;VALUE=DURATION:PT1H
X-Robots-Tag:noindex
X-PUBLISHED-TTL:PT1H
BEGIN:VTIMEZONE
TZID:America/Indiana/Indianapolis
BEGIN:DAYLIGHT
TZOFFSETFROM:-0500
TZOFFSETTO:-0400
TZNAME:EDT
DTSTART:20240310T070000
END:DAYLIGHT
BEGIN:STANDARD
TZOFFSETFROM:-0400
TZOFFSETTO:-0500
TZNAME:EST
DTSTART:20241103T060000
END:STANDARD
BEGIN:DAYLIGHT
TZOFFSETFROM:-0500
TZOFFSETTO:-0400
TZNAME:EDT
DTSTART:20250309T070000
END:DAYLIGHT
BEGIN:STANDARD
TZOFFSETFROM:-0400
TZOFFSETTO:-0500
TZNAME:EST
DTSTART:20251102T060000
END:STANDARD
BEGIN:DAYLIGHT
TZOFFSETFROM:-0500
TZOFFSETTO:-0400
TZNAME:EDT
DTSTART:20260308T070000
END:DAYLIGHT
BEGIN:STANDARD
TZOFFSETFROM:-0400
TZOFFSETTO:-0500
TZNAME:EST
DTSTART:20261101T060000
END:STANDARD
END:VTIMEZONE
BEGIN:VEVENT
DTSTART;TZID=America/Indiana/Indianapolis:20251207T103000
DTEND;TZID=America/Indiana/Indianapolis:20251207T120000
DTSTAMP:20260424T134355
CREATED:20251111T222248Z
LAST-MODIFIED:20251111T222248Z
UID:2040-1765103400-1765108800@gracefamilyministries.org
SUMMARY:Grace Gospel Church of Linton\, IN
DESCRIPTION:On Sunday\, December 7th\, Tim & Lori Board & family will be ministering in music and preaching the Word of God.  All the saints welcome you to join them for worship on Sundays at 10:30am.  Their address is 935 A St. NW Linton\, IN 47441.
URL:https://gracefamilyministries.org/event/grace-gospel-church-of-linton-in-11/
ATTACH;FMTTYPE=image/jpeg:https://gracefamilyministries.org/wp-content/uploads/2025/11/305221048_513683504093238_8159834650823792685_n.jpg
END:VEVENT
BEGIN:VEVENT
DTSTART;TZID=America/Indiana/Indianapolis:20251214T093000
DTEND;TZID=America/Indiana/Indianapolis:20251214T120000
DTSTAMP:20260424T134355
CREATED:20251201T231216Z
LAST-MODIFIED:20251201T231216Z
UID:2082-1765704600-1765713600@gracefamilyministries.org
SUMMARY:Grace Bible Church of Defiance\, OH
DESCRIPTION:On Sunday\, December 14th\, Tim & Lori Board & family will be presenting the mission of GFM\, sharing special music\, and preaching God’s Word with an emphasis on intentionally passing on the truth to the next generation through biblical marriage and family life at GBC of Defiance\, Ohio. \nPastor John & Bonnie McKay and all the saints welcome you to join them on Sundays for a Bible Class at 9:30am and the Worship Service at 10:30am.  Their address is 2060 South Jefferson Ave. Defiance\, OH 43512.  For more information\, call 419-782-6391.
URL:https://gracefamilyministries.org/event/grace-bible-church-of-defiance-oh/
ATTACH;FMTTYPE=image/jpeg:https://gracefamilyministries.org/wp-content/uploads/2025/12/gbc.jpg
END:VEVENT
BEGIN:VEVENT
DTSTART;TZID=America/Indiana/Indianapolis:20251221T103000
DTEND;TZID=America/Indiana/Indianapolis:20251221T120000
DTSTAMP:20260424T134355
CREATED:20251121T175458Z
LAST-MODIFIED:20251121T175458Z
UID:2066-1766313000-1766318400@gracefamilyministries.org
SUMMARY:Grace Gospel Church of Linton\, IN
DESCRIPTION:On Sunday\, December 21st\, Tim & Lori Board & family will be ministering in music and preaching the Word of God.  All the saints welcome you to join them for worship on Sundays at 10:30am.  Their address is 935 A St. NW Linton\, IN 47441.
URL:https://gracefamilyministries.org/event/grace-gospel-church-of-linton-in-13/
ATTACH;FMTTYPE=image/jpeg:https://gracefamilyministries.org/wp-content/uploads/2025/11/305221048_513683504093238_8159834650823792685_n.jpg
END:VEVENT
END:VCALENDAR