BEGIN:VCALENDAR
VERSION:2.0
PRODID:-//Grace Family Ministries - ECPv6.15.20//NONSGML v1.0//EN
CALSCALE:GREGORIAN
METHOD:PUBLISH
X-WR-CALNAME:Grace Family Ministries
X-ORIGINAL-URL:https://gracefamilyministries.org
X-WR-CALDESC:Events for Grace Family Ministries
REFRESH-INTERVAL;VALUE=DURATION:PT1H
X-Robots-Tag:noindex
X-PUBLISHED-TTL:PT1H
BEGIN:VTIMEZONE
TZID:America/Indiana/Indianapolis
BEGIN:DAYLIGHT
TZOFFSETFROM:-0500
TZOFFSETTO:-0400
TZNAME:EDT
DTSTART:20240310T070000
END:DAYLIGHT
BEGIN:STANDARD
TZOFFSETFROM:-0400
TZOFFSETTO:-0500
TZNAME:EST
DTSTART:20241103T060000
END:STANDARD
BEGIN:DAYLIGHT
TZOFFSETFROM:-0500
TZOFFSETTO:-0400
TZNAME:EDT
DTSTART:20250309T070000
END:DAYLIGHT
BEGIN:STANDARD
TZOFFSETFROM:-0400
TZOFFSETTO:-0500
TZNAME:EST
DTSTART:20251102T060000
END:STANDARD
BEGIN:DAYLIGHT
TZOFFSETFROM:-0500
TZOFFSETTO:-0400
TZNAME:EDT
DTSTART:20260308T070000
END:DAYLIGHT
BEGIN:STANDARD
TZOFFSETFROM:-0400
TZOFFSETTO:-0500
TZNAME:EST
DTSTART:20261101T060000
END:STANDARD
END:VTIMEZONE
BEGIN:VEVENT
DTSTART;TZID=America/Indiana/Indianapolis:20250803T093000
DTEND;TZID=America/Indiana/Indianapolis:20250803T120000
DTSTAMP:20260424T204318
CREATED:20250529T205434Z
LAST-MODIFIED:20251023T031620Z
UID:1872-1754213400-1754222400@gracefamilyministries.org
SUMMARY:Grace Bible Church of Beloit\, WI
DESCRIPTION:On Sunday\, August 3rd\, Tim & Lori Board & family will be ministering in music\, reporting on GFM’s ministry adventures\, and preaching the Word of God with an emphasis on our mission of “Advancing the Cause of Christ to the Ends of the Earth…Beginning Right at Home.” \nAll the saints welcome you to join them on Sunday for Bible Classes at 9:30am and the Worship Service at 11am.  Their address is 1928 Colony Ct. Beloit\, WI 53511.
URL:https://gracefamilyministries.org/event/grace-bible-church-of-beloit-wi-3/
ATTACH;FMTTYPE=image/webp:https://gracefamilyministries.org/wp-content/uploads/2024/04/Untitled_Artwork.webp
END:VEVENT
BEGIN:VEVENT
DTSTART;TZID=America/Indiana/Indianapolis:20250803T170000
DTEND;TZID=America/Indiana/Indianapolis:20250809T090000
DTSTAMP:20260424T204318
CREATED:20240411T211722Z
LAST-MODIFIED:20250205T195805Z
UID:787-1754240400-1754730000@gracefamilyministries.org
SUMMARY:August Family Camp at Northern Grace Youth Camp (WI)
DESCRIPTION:Pastor Tim Board will be preaching the Word of God as the chapel speaker at NGYC’s August Family Camp (8/3-9/2025).  For more information\, check out www.NorthernGraceYouthCamp.org.
URL:https://gracefamilyministries.org/event/junior-high-week-at-northern-grace-youth-camp-wi/
ATTACH;FMTTYPE=image/jpeg:https://gracefamilyministries.org/wp-content/uploads/2024/04/download.jpg
END:VEVENT
BEGIN:VEVENT
DTSTART;TZID=America/Indiana/Indianapolis:20250810T090000
DTEND;TZID=America/Indiana/Indianapolis:20250810T120000
DTSTAMP:20260424T204318
CREATED:20250529T211905Z
LAST-MODIFIED:20250529T212150Z
UID:1875-1754816400-1754827200@gracefamilyministries.org
SUMMARY:Grace Bible Church of West Allis\, WI
DESCRIPTION:On Sunday\, August 10th\, Tim & Lori Board & family will be ministering in music and presenting the mission of Grace Family Ministries.  Pastor & Mrs. Takkinen and all the saints welcome you to join them for the Worship Service on Sunday mornings at 9:15am.  Their address is 2643 South 117th St West Allis\, WI 53227.  For more information\, check out their website at www.gbcwestallis.org.
URL:https://gracefamilyministries.org/event/grace-bible-church-of-west-allis-wi/
ATTACH;FMTTYPE=image/jpeg:https://gracefamilyministries.org/wp-content/uploads/2025/05/map_of_west_allis_wi.jpg
END:VEVENT
BEGIN:VEVENT
DTSTART;TZID=America/Indiana/Indianapolis:20250816T093000
DTEND;TZID=America/Indiana/Indianapolis:20250817T123000
DTSTAMP:20260424T204318
CREATED:20250717T171120Z
LAST-MODIFIED:20250717T191650Z
UID:1918-1755336600-1755433800@gracefamilyministries.org
SUMMARY:Summer Bible Conference at Grace Gospel Church - Linton\, IN
DESCRIPTION:On Saturday\, August 16th & Sunday\, August 17th\, the saints at Grace Gospel Church in Linton\, Indiana\, in partnership with Grace Family Ministries\, welcome you to join them for their 2025 Summer Bible Conference (Address: 935 A St. NW Linton\, IN 47441). \n“Ancient Wisdom for the Modern Church: What the Saints of Old Would Say to Us Today” \n“That all the peoples of the earth may know the hand of the LORD\, that it is mighty\, that you may fear the LORD your God forever.” Joshua 4:24 NKJV \nSaturday\, August 16th\, A.D. 2025 \n9:30am – Session #1 – “Caleb & Joshua: Determination to Stand Alone – Josh.14:6-12 cf. 4:19-24; Num.13 \n\nSpeaker: Don Smith\, Southport\, IN\n\n  \n10:30am – Session #2 “Job: Enduring Suffering & Pain’s Hidden Purpose” – Job 13:15-16; 36:15: Rom 12:12 \n\nSpeaker: Tim Hargrove\, Mechanicsburg\, IL\n\n  \n12 noon – LUNCH (provided by Grace Gospel Church) \n\nPlease RSVP at tboard@gracefamilyministries.org or 608-403-7677.\n\n  \n1:00pm – Breakout Session: “Wisdom & Holiness in a Secular Age” \n\nMen in Fellowship Hall with Pastor Tim Board\nWomen in Sanctuary with  Barb Sistelos\n\n  \n2:00pm – Hymn Sing & Panel Discussion on “Ancient Wisdom for the Modern Church” \n\nCome prepared to share special music!\nAlso featuring Q&A with the speakers\nModerator:  Tony Sistelos\n\n  \n3:30pm – REFRESHMENTS \n  \nSunday\, August 17th\, A.D. 2025 \n9:30am – Session #6 “Nehemiah: Bold & Visionary Leadership for Perilous Times” – Neh.2:12; 4:14 \n\nSpeaker: Tony Sistelos\, Westfield\, IN\n\n  \n10:30am – Session #7 “Elijah: Zeal & Conviction in the Face of Apostasy” – 1 Kings 18:17-40 \n\nSpeaker: Pastor Tim Board of Grace Family Ministries\, Indianapolis\, IN
URL:https://gracefamilyministries.org/event/summer-bible-conference-at-ggc-linton-in/
ATTACH;FMTTYPE=image/jpeg:https://gracefamilyministries.org/wp-content/uploads/2025/07/image.jpe
END:VEVENT
BEGIN:VEVENT
DTSTART;TZID=America/Indiana/Indianapolis:20250824T093000
DTEND;TZID=America/Indiana/Indianapolis:20250824T150000
DTSTAMP:20260424T204318
CREATED:20250529T213456Z
LAST-MODIFIED:20250529T213456Z
UID:1882-1756027800-1756047600@gracefamilyministries.org
SUMMARY:"Old-Fashioned Tent Revival" at GBC-Oshkosh\, WI
DESCRIPTION:On Sunday\, August 24th\, Tim & Lori Board & family will be ministering at an “Old-Fashioned Tent Revival” meeting and Pig Roast at Grace Bible Church of Oshkosh\, Wisconsin.  The elders and all the saints of this historic assembly invite you to join them for Bible Study and the Worship Service on Sunday mornings.  Their address is 145 West 24th Ave.\, Oshkosh\, WI 54902.  For more information\, check out www.www.gbcoshkosh.org. \n 
URL:https://gracefamilyministries.org/event/old-fashioned-tent-revival-at-gbc-oshkosh-wi/
ATTACH;FMTTYPE=image/jpeg:https://gracefamilyministries.org/wp-content/uploads/2025/05/e00f8daabeaba6011ba1c6090e4ed296.jpg
END:VEVENT
END:VCALENDAR