BEGIN:VCALENDAR
VERSION:2.0
PRODID:-//Grace Family Ministries - ECPv6.15.20//NONSGML v1.0//EN
CALSCALE:GREGORIAN
METHOD:PUBLISH
X-ORIGINAL-URL:https://gracefamilyministries.org
X-WR-CALDESC:Events for Grace Family Ministries
REFRESH-INTERVAL;VALUE=DURATION:PT1H
X-Robots-Tag:noindex
X-PUBLISHED-TTL:PT1H
BEGIN:VTIMEZONE
TZID:America/Indiana/Indianapolis
BEGIN:DAYLIGHT
TZOFFSETFROM:-0500
TZOFFSETTO:-0400
TZNAME:EDT
DTSTART:20240310T070000
END:DAYLIGHT
BEGIN:STANDARD
TZOFFSETFROM:-0400
TZOFFSETTO:-0500
TZNAME:EST
DTSTART:20241103T060000
END:STANDARD
BEGIN:DAYLIGHT
TZOFFSETFROM:-0500
TZOFFSETTO:-0400
TZNAME:EDT
DTSTART:20250309T070000
END:DAYLIGHT
BEGIN:STANDARD
TZOFFSETFROM:-0400
TZOFFSETTO:-0500
TZNAME:EST
DTSTART:20251102T060000
END:STANDARD
BEGIN:DAYLIGHT
TZOFFSETFROM:-0500
TZOFFSETTO:-0400
TZNAME:EDT
DTSTART:20260308T070000
END:DAYLIGHT
BEGIN:STANDARD
TZOFFSETFROM:-0400
TZOFFSETTO:-0500
TZNAME:EST
DTSTART:20261101T060000
END:STANDARD
END:VTIMEZONE
BEGIN:VEVENT
DTSTART;VALUE=DATE:20250201
DTEND;VALUE=DATE:20250202
DTSTAMP:20260425T065615
CREATED:20240106T000059Z
LAST-MODIFIED:20250109T212120Z
UID:418-1738368000-1738454399@gracefamilyministries.org
SUMMARY:Ohio Family Discipleship Day
DESCRIPTION:Tim & Lori Board & family will be attending the OH FDD organized by friends.  Grace Family Ministries would be glad to help you coordinate and customize something of this sort in your area.  We encourage you to prayerfully consider hosting an event so please feel free to contact us to discuss ideas.  For more information\, check out https://ohiofdd.com/.
URL:https://gracefamilyministries.org/event/ohio-family-discipleship-day/
ATTACH;FMTTYPE=image/webp:https://gracefamilyministries.org/wp-content/uploads/2024/01/c1d1a943-2375-426d-a176-aded699853ef-GettyImages-1160758524-scaled.webp
END:VEVENT
BEGIN:VEVENT
DTSTART;TZID=America/Indiana/Indianapolis:20250223T190000
DTEND;TZID=America/Indiana/Indianapolis:20250223T200000
DTSTAMP:20260425T065615
CREATED:20241005T140637Z
LAST-MODIFIED:20250205T195337Z
UID:1401-1740337200-1740340800@gracefamilyministries.org
SUMMARY:Grace Family Bible Church of Duncansville\, PA
DESCRIPTION:Tim & Lori Board & family will be at GFBC’s Evening Service to minister special music\, present the ministry of GFM\, and preach the Word of God with an emphasis on the intentional transmission of truth to the next generation for the glory of our great God and Savior. \nPastor & Mrs. Zaebst and all the saints welcome you to join them on Sundays for Bible Classes and the Worship Service.  Call 814-696-4366 for more details.  Their address is 2243 Mill Road\, Duncansville\, Pennsylvania.
URL:https://gracefamilyministries.org/event/grace-family-bible-church-of-duncansville-pa/
ATTACH;FMTTYPE=image/jpeg:https://gracefamilyministries.org/wp-content/uploads/2024/10/Grace-Family-Bible-Church.jpg
END:VEVENT
BEGIN:VEVENT
DTSTART;TZID=America/Indiana/Indianapolis:20250226T190000
DTEND;TZID=America/Indiana/Indianapolis:20250226T200000
DTSTAMP:20260425T065615
CREATED:20240525T224335Z
LAST-MODIFIED:20250224T223634Z
UID:930-1740596400-1740600000@gracefamilyministries.org
SUMMARY:Grace Bible Institute at Altoona Bible Church
DESCRIPTION:On this Wednesday\, February 26th\, Pastor Tim & Lori Board & family will be ministering God’s Word and special music at the historic Altoona Bible Church in central Pennsylvania.  An update on the mission of GFM will also be presented and practical equipping tools/resources will also be available.  For more information\, check out www.AltoonaBible.org. \nLocation: Altoona Bible Church 3017 Union Ave. Altoona\, PA 16602.
URL:https://gracefamilyministries.org/event/the-altoona-bible-church-of-altoona-pa/
ATTACH;FMTTYPE=image/jpeg:https://gracefamilyministries.org/wp-content/uploads/2024/05/altoona-bible-church.jpg
END:VEVENT
END:VCALENDAR