BEGIN:VCALENDAR
VERSION:2.0
PRODID:-//Grace Family Ministries - ECPv6.15.20//NONSGML v1.0//EN
CALSCALE:GREGORIAN
METHOD:PUBLISH
X-WR-CALNAME:Grace Family Ministries
X-ORIGINAL-URL:https://gracefamilyministries.org
X-WR-CALDESC:Events for Grace Family Ministries
REFRESH-INTERVAL;VALUE=DURATION:PT1H
X-Robots-Tag:noindex
X-PUBLISHED-TTL:PT1H
BEGIN:VTIMEZONE
TZID:America/Indiana/Indianapolis
BEGIN:DAYLIGHT
TZOFFSETFROM:-0500
TZOFFSETTO:-0400
TZNAME:EDT
DTSTART:20230312T070000
END:DAYLIGHT
BEGIN:STANDARD
TZOFFSETFROM:-0400
TZOFFSETTO:-0500
TZNAME:EST
DTSTART:20231105T060000
END:STANDARD
BEGIN:DAYLIGHT
TZOFFSETFROM:-0500
TZOFFSETTO:-0400
TZNAME:EDT
DTSTART:20240310T070000
END:DAYLIGHT
BEGIN:STANDARD
TZOFFSETFROM:-0400
TZOFFSETTO:-0500
TZNAME:EST
DTSTART:20241103T060000
END:STANDARD
BEGIN:DAYLIGHT
TZOFFSETFROM:-0500
TZOFFSETTO:-0400
TZNAME:EDT
DTSTART:20250309T070000
END:DAYLIGHT
BEGIN:STANDARD
TZOFFSETFROM:-0400
TZOFFSETTO:-0500
TZNAME:EST
DTSTART:20251102T060000
END:STANDARD
END:VTIMEZONE
BEGIN:VEVENT
DTSTART;TZID=America/Indiana/Indianapolis:20241201T093000
DTEND;TZID=America/Indiana/Indianapolis:20241201T123000
DTSTAMP:20260425T103741
CREATED:20241127T203059Z
LAST-MODIFIED:20241127T203059Z
UID:1471-1733045400-1733056200@gracefamilyministries.org
SUMMARY:Grace Bible Church in Streamwood\, IL
DESCRIPTION:Tim & Lori Board & family will be ministering in music\, presenting the mission of GFM\, and preaching the Word of God with an emphasis on the great faithfulness of Almighty God to the promises of His Word on the front end of the Christmas season in celebration of the incarnation of our Risen Savior. \nPastor Georges Craesmeyer and all the saints welcome you to join them on Sunday for the Worship Service at 9:30am and Bible Classes at 11am.  Their address is 500 E. Streamwood Blvd. Streamwood\, IL 60107.
URL:https://gracefamilyministries.org/event/grace-bible-church-in-streamwood-il/
ATTACH;FMTTYPE=image/jpeg:https://gracefamilyministries.org/wp-content/uploads/2024/11/addnddltj1kddqjiryxj.jpg
END:VEVENT
BEGIN:VEVENT
DTSTART;TZID=America/Indiana/Indianapolis:20241204T180000
DTEND;TZID=America/Indiana/Indianapolis:20241204T200000
DTSTAMP:20260425T103741
CREATED:20240829T215045Z
LAST-MODIFIED:20241204T205924Z
UID:1209-1733335200-1733342400@gracefamilyministries.org
SUMMARY:Youth Meeting at Grace Point Church
DESCRIPTION:Pastor Tim & Lori Board & family will be ministering at the LV8 Youth Meeting at Grace Point Church in New Whiteland\, Indiana. \nLocation: Grace Point Church 330 W. Whiteland Rd. New Whiteland\, IN 46184
URL:https://gracefamilyministries.org/event/grace-point-family-conference/
ATTACH;FMTTYPE=image/jpeg:https://gracefamilyministries.org/wp-content/uploads/2024/08/336164446_4473_Church-pic-new-.jpg
END:VEVENT
BEGIN:VEVENT
DTSTART;TZID=America/Indiana/Indianapolis:20241208T103000
DTEND;TZID=America/Indiana/Indianapolis:20241208T120000
DTSTAMP:20260425T103741
CREATED:20240816T213252Z
LAST-MODIFIED:20241102T213505Z
UID:1137-1733653800-1733659200@gracefamilyministries.org
SUMMARY:Grace Community Church of Bedford\, IN
DESCRIPTION:Tim & Lori Board & family will be ministering in music and preaching the Word of God.  Pastor Dave & Sonja Wilson and all the saints welcome you to join them for worship on Sundays at 10:30am.  Their address is 2625 Industrial Drive Bedford\, IN 47421.
URL:https://gracefamilyministries.org/event/grace-community-church-of-bedford-in-4/
ATTACH;FMTTYPE=image/jpeg:https://gracefamilyministries.org/wp-content/uploads/2024/08/map_of_bedford_in.jpg
END:VEVENT
BEGIN:VEVENT
DTSTART;TZID=America/Indiana/Indianapolis:20241215T093000
DTEND;TZID=America/Indiana/Indianapolis:20241215T120000
DTSTAMP:20260425T103741
CREATED:20240102T225009Z
LAST-MODIFIED:20241207T175946Z
UID:399-1734255000-1734264000@gracefamilyministries.org
SUMMARY:Coopersville Bible Church (MI)
DESCRIPTION:Pastor Timothy Board will be presenting a GFM update and preaching the Word of God with practical relevance to biblical marriage and family life amidst the Christmastime season.  The Board family will also be ministering special music. \nFor more information\, check out www.CoopersvilleBibleChurch.com. \n 
URL:https://gracefamilyministries.org/event/pastor-tim-board-preaching-and-presenting-at-coopersville-bible-church/
LOCATION:Coopersville Bible Church\, 35 Hillcrest St\, Coopersville\, MI\, 49404\, United States
ATTACH;FMTTYPE=image/jpeg:https://gracefamilyministries.org/wp-content/uploads/2024/01/coopersville-bible-church.jpg
END:VEVENT
BEGIN:VEVENT
DTSTART;TZID=America/Indiana/Indianapolis:20241222T093000
DTEND;TZID=America/Indiana/Indianapolis:20241222T130000
DTSTAMP:20260425T103741
CREATED:20240411T210919Z
LAST-MODIFIED:20241005T133638Z
UID:785-1734859800-1734872400@gracefamilyministries.org
SUMMARY:Grace Bible Church of Beloit\, WI
DESCRIPTION:Tim & Lori Board & family will be ministering in music\, reporting on GFM’s ministry adventures\, and preaching the Word of God with an emphasis on the all-glorious majesty of the incarnation of our Lord Jesus Christ.  Timothy Board\, Jr. will also be teaching the Adult Bible Class. \nAll the saints welcome you to join them on Sunday for Bible Classes at 9:30am and the Worship Service at 11am.  Their address is 1928 Colony Ct. Beloit\, WI 53511. \nhttps://www.gracebiblechurchbeloit.com/
URL:https://gracefamilyministries.org/event/grace-bible-church-of-beloit-wi/
ATTACH;FMTTYPE=image/webp:https://gracefamilyministries.org/wp-content/uploads/2024/04/Untitled_Artwork.webp
END:VEVENT
BEGIN:VEVENT
DTSTART;TZID=America/Indiana/Indianapolis:20241229T093000
DTEND;TZID=America/Indiana/Indianapolis:20241229T130000
DTSTAMP:20260425T103741
CREATED:20241005T134243Z
LAST-MODIFIED:20241005T141022Z
UID:1397-1735464600-1735477200@gracefamilyministries.org
SUMMARY:Grace Bible Church of Beloit\, WI
DESCRIPTION:Tim & Lori Board & family will be ministering in music\, reporting on GFM’s ministry adventures\, and preaching the Word of God with an emphasis on the all-glorious majesty of God’s faithfulness in 2024 and beyond into the new year.  Timothy Board\, Jr. will also be teaching the Adult Bible Class. \nAll the saints welcome you to join them on Sunday for Bible Classes at 9:30am and the Worship Service at 11am.  Their address is 1928 Colony Ct. Beloit\, WI 53511. \nhttps://www.gracebiblechurchbeloit.com/
URL:https://gracefamilyministries.org/event/grace-bible-church-of-beloit-wi-2/
ATTACH;FMTTYPE=image/webp:https://gracefamilyministries.org/wp-content/uploads/2024/04/Untitled_Artwork.webp
END:VEVENT
END:VCALENDAR