BEGIN:VCALENDAR
VERSION:2.0
PRODID:-//Grace Family Ministries - ECPv6.15.20//NONSGML v1.0//EN
CALSCALE:GREGORIAN
METHOD:PUBLISH
X-WR-CALNAME:Grace Family Ministries
X-ORIGINAL-URL:https://gracefamilyministries.org
X-WR-CALDESC:Events for Grace Family Ministries
REFRESH-INTERVAL;VALUE=DURATION:PT1H
X-Robots-Tag:noindex
X-PUBLISHED-TTL:PT1H
BEGIN:VTIMEZONE
TZID:America/Indiana/Indianapolis
BEGIN:DAYLIGHT
TZOFFSETFROM:-0500
TZOFFSETTO:-0400
TZNAME:EDT
DTSTART:20230312T070000
END:DAYLIGHT
BEGIN:STANDARD
TZOFFSETFROM:-0400
TZOFFSETTO:-0500
TZNAME:EST
DTSTART:20231105T060000
END:STANDARD
BEGIN:DAYLIGHT
TZOFFSETFROM:-0500
TZOFFSETTO:-0400
TZNAME:EDT
DTSTART:20240310T070000
END:DAYLIGHT
BEGIN:STANDARD
TZOFFSETFROM:-0400
TZOFFSETTO:-0500
TZNAME:EST
DTSTART:20241103T060000
END:STANDARD
BEGIN:DAYLIGHT
TZOFFSETFROM:-0500
TZOFFSETTO:-0400
TZNAME:EDT
DTSTART:20250309T070000
END:DAYLIGHT
BEGIN:STANDARD
TZOFFSETFROM:-0400
TZOFFSETTO:-0500
TZNAME:EST
DTSTART:20251102T060000
END:STANDARD
END:VTIMEZONE
BEGIN:VEVENT
DTSTART;TZID=America/Indiana/Indianapolis:20241110T093000
DTEND;TZID=America/Indiana/Indianapolis:20241110T120000
DTSTAMP:20260425T122043
CREATED:20240829T221224Z
LAST-MODIFIED:20250722T213018Z
UID:1216-1731231000-1731240000@gracefamilyministries.org
SUMMARY:Grace Family Sunday at St. Louis Bible Fellowship
DESCRIPTION:Tim & Lori Board & family will be presenting a GFM update\, ministering in music\, and preaching the Word of God.  Pastor & Mrs. Rick Owsley and all the saints of Bible Fellowship invite you to join them on Sundays for Bible Study at 9:30am and the Worship Service at 10:30am.  For more information: check out www.stbiblefellowship.net.
URL:https://gracefamilyministries.org/event/grace-family-sunday-at-st-louis-bible-fellowship/
ATTACH;FMTTYPE=image/webp:https://gracefamilyministries.org/wp-content/uploads/2024/08/rsh_1000cg_true.webp
END:VEVENT
BEGIN:VEVENT
DTSTART;TZID=America/Indiana/Indianapolis:20241117T093000
DTEND;TZID=America/Indiana/Indianapolis:20241117T120000
DTSTAMP:20260425T122043
CREATED:20240829T222136Z
LAST-MODIFIED:20240830T151826Z
UID:1219-1731835800-1731844800@gracefamilyministries.org
SUMMARY:Community Bible Church of Tipp City\, Ohio
DESCRIPTION:Tim & Lori Board will be presenting the ministry of GFM\, sharing special music\, and ministering the Word of God.  Pastor & Mrs. Jeff Seekins and all the saints invite you to join them on Sundays for Bible Study at 9:30am and the Worship Service at 10:30am.  For more information: check out www.cbctipp.com.
URL:https://gracefamilyministries.org/event/community-bible-church-of-tipp-city-ohio/
ATTACH;FMTTYPE=image/jpeg:https://gracefamilyministries.org/wp-content/uploads/2024/08/1375656_566767993388603_1602231752_n.jpg
END:VEVENT
BEGIN:VEVENT
DTSTART;TZID=America/Indiana/Indianapolis:20241130T100000
DTEND;TZID=America/Indiana/Indianapolis:20241130T130000
DTSTAMP:20260425T122043
CREATED:20241127T201944Z
LAST-MODIFIED:20241129T233554Z
UID:1468-1732960800-1732971600@gracefamilyministries.org
SUMMARY:Home Bible Study Fellowship in Mukwanago\, WI
DESCRIPTION:Tim & Lori Board & family will be ministering in music\, presenting the mission of GFM\, and preaching the Word of God with an emphasis on God’s great faithfulness to the promises of His Word in light of Thanksgiving Day. \nThe Kemps and Keshans along with all the saints welcome you to join them at 10:00am.  Please contact GFM at 608-403-7677 for more information.
URL:https://gracefamilyministries.org/event/home-bible-study-fellowship-in-mukwanago-wi/
ATTACH;FMTTYPE=image/jpeg:https://gracefamilyministries.org/wp-content/uploads/2024/11/map_of_mukwonago_wi.jpg
END:VEVENT
END:VCALENDAR