BEGIN:VCALENDAR
VERSION:2.0
PRODID:-//Grace Family Ministries - ECPv6.15.20//NONSGML v1.0//EN
CALSCALE:GREGORIAN
METHOD:PUBLISH
X-ORIGINAL-URL:https://gracefamilyministries.org
X-WR-CALDESC:Events for Grace Family Ministries
REFRESH-INTERVAL;VALUE=DURATION:PT1H
X-Robots-Tag:noindex
X-PUBLISHED-TTL:PT1H
BEGIN:VTIMEZONE
TZID:America/Indiana/Indianapolis
BEGIN:DAYLIGHT
TZOFFSETFROM:-0500
TZOFFSETTO:-0400
TZNAME:EDT
DTSTART:20230312T070000
END:DAYLIGHT
BEGIN:STANDARD
TZOFFSETFROM:-0400
TZOFFSETTO:-0500
TZNAME:EST
DTSTART:20231105T060000
END:STANDARD
BEGIN:DAYLIGHT
TZOFFSETFROM:-0500
TZOFFSETTO:-0400
TZNAME:EDT
DTSTART:20240310T070000
END:DAYLIGHT
BEGIN:STANDARD
TZOFFSETFROM:-0400
TZOFFSETTO:-0500
TZNAME:EST
DTSTART:20241103T060000
END:STANDARD
BEGIN:DAYLIGHT
TZOFFSETFROM:-0500
TZOFFSETTO:-0400
TZNAME:EDT
DTSTART:20250309T070000
END:DAYLIGHT
BEGIN:STANDARD
TZOFFSETFROM:-0400
TZOFFSETTO:-0500
TZNAME:EST
DTSTART:20251102T060000
END:STANDARD
END:VTIMEZONE
BEGIN:VEVENT
DTSTART;TZID=America/Indiana/Indianapolis:20241011T180000
DTEND;TZID=America/Indiana/Indianapolis:20241013T130000
DTSTAMP:20260425T141917
CREATED:20240411T214204Z
LAST-MODIFIED:20240827T173331Z
UID:795-1728669600-1728824400@gracefamilyministries.org
SUMMARY:Ohio Grace Family Conference at GBC-Springfield
DESCRIPTION:Tim Board along with several other pastors and ministry leaders will be preaching the Word of God with practical relevance to biblical marriage and family life.  This event is FREE to attend\, meals are on site\, and ample space for camping is available.  Bring your Bible\, notebook\, favorite instruments to share special music or just to jam out\, and the whole family for this special event.  Pastor Nathan & Jamie Rambeck and all the saints of Grace Bible Church – Springfield invite you to the Ohio Grace Family Conference.  For more information\, check out www.GraceSpringfield.com.  Their address is 1500 Groop Road\, Springfield\, OH 45504.
URL:https://gracefamilyministries.org/event/ohio-grace-family-conference-at-gbc-springfield/
ATTACH;FMTTYPE=image/webp:https://gracefamilyministries.org/wp-content/uploads/2024/04/IMG_3216.webp
END:VEVENT
BEGIN:VEVENT
DTSTART;TZID=America/Indiana/Indianapolis:20241027T093000
DTEND;TZID=America/Indiana/Indianapolis:20241027T120000
DTSTAMP:20260425T141917
CREATED:20240829T220124Z
LAST-MODIFIED:20240830T151939Z
UID:1213-1730021400-1730030400@gracefamilyministries.org
SUMMARY:Preakness Bible Church of Wayne\, NJ
DESCRIPTION:Tim & Lori Board & family will be presenting GFM\, ministering in music\, and preaching the Word of God.  All the saints welcome you to join them on Sundays for Bible Study at 9:30am and the Worship Service at 10:30am.  For more information: check out www.preaknessbiblechurch.org.
URL:https://gracefamilyministries.org/event/preakness-bible-church-of-wayne-nj/
ATTACH;FMTTYPE=image/jpeg:https://gracefamilyministries.org/wp-content/uploads/2024/08/wider-view-preakness-bible-church-wayne-nj.jpg
END:VEVENT
END:VCALENDAR