BEGIN:VCALENDAR
VERSION:2.0
PRODID:-//Grace Family Ministries - ECPv6.15.20//NONSGML v1.0//EN
CALSCALE:GREGORIAN
METHOD:PUBLISH
X-WR-CALNAME:Grace Family Ministries
X-ORIGINAL-URL:https://gracefamilyministries.org
X-WR-CALDESC:Events for Grace Family Ministries
REFRESH-INTERVAL;VALUE=DURATION:PT1H
X-Robots-Tag:noindex
X-PUBLISHED-TTL:PT1H
BEGIN:VTIMEZONE
TZID:America/Indiana/Indianapolis
BEGIN:DAYLIGHT
TZOFFSETFROM:-0500
TZOFFSETTO:-0400
TZNAME:EDT
DTSTART:20230312T070000
END:DAYLIGHT
BEGIN:STANDARD
TZOFFSETFROM:-0400
TZOFFSETTO:-0500
TZNAME:EST
DTSTART:20231105T060000
END:STANDARD
BEGIN:DAYLIGHT
TZOFFSETFROM:-0500
TZOFFSETTO:-0400
TZNAME:EDT
DTSTART:20240310T070000
END:DAYLIGHT
BEGIN:STANDARD
TZOFFSETFROM:-0400
TZOFFSETTO:-0500
TZNAME:EST
DTSTART:20241103T060000
END:STANDARD
BEGIN:DAYLIGHT
TZOFFSETFROM:-0500
TZOFFSETTO:-0400
TZNAME:EDT
DTSTART:20250309T070000
END:DAYLIGHT
BEGIN:STANDARD
TZOFFSETFROM:-0400
TZOFFSETTO:-0500
TZNAME:EST
DTSTART:20251102T060000
END:STANDARD
END:VTIMEZONE
BEGIN:VEVENT
DTSTART;TZID=America/Indiana/Indianapolis:20240914T090000
DTEND;TZID=America/Indiana/Indianapolis:20240914T170000
DTSTAMP:20260425T155754
CREATED:20240424T225225Z
LAST-MODIFIED:20240830T152403Z
UID:831-1726304400-1726333200@gracefamilyministries.org
SUMMARY:"This is the Fight of Your Life!" Men's Advance at NGYC's "Land"
DESCRIPTION:All men\, young & old\, are summoned to the Men’s Advance at NGYC’s “Land” along the Oconto River in the Northwoods of Wisconsin (12700 County Road VV Gillett\, WI 54124).  Bring your sons\, grandsons\, & brothers-in-arms.  More details below.  Register on site or beforehand at www.NorthernGraceYouthCamp.org. \nSaturday\, September 14th\, 2024 \n9:30am – Session #1: “Fight for What it Means to Be a Man!” – 1 Cor.16:13-14 \n\nSpeaker: Pastor Dan Wolgast\, Falls Bible Church – Menomonee Falls\, WI & Dean of Students at Berean Bible Institute – West Bend\, WI\n\n11:00am  – Session #2: “Fight for What it Means to Be a Husband & Father!” – Neh.4:14 \n\nSpeaker: Pastor Andy Kern\, Falls Bible Church – Menomonee Falls\, WI & Dean of Academics at Berean Bible Institute – West Bend\, WI\n\n12:00n LUNCH \n12:30pm Shooting Range w/Doug Cox (minimum age: 16 yrs. old) \n2:30pm  – Session #3: Panel Discussion\, “Biblical Manhood in a Secular Age” \n\nModerator: Pastor Tim Board\, Grace Family Ministries – Indianapolis\, IN\n\n4:00pm – Closing Session: “Fight for What it Means to Be Free!” – Rom.13:11-14 \n\nSpeaker: Pastor Tim Board\, Grace Family Ministries – Indianapolis\, IN\n\n5:00pm – Re-Deployment for Home \nmen\n 
URL:https://gracefamilyministries.org/event/mens-advance-camp-at-ngycs-land/
ATTACH;FMTTYPE=image/jpeg:https://gracefamilyministries.org/wp-content/uploads/2024/04/john-l-sullivan-bare-knuckle-boxer-war-is-hell-store.jpg
END:VEVENT
END:VCALENDAR